BEGIN:VCALENDAR
VERSION:2.0
PRODID:-//İstanbul Eku Markazi - Стамбул Эку Маркази - ECPv6.10.1.1//NONSGML v1.0//EN
CALSCALE:GREGORIAN
METHOD:PUBLISH
X-WR-CALNAME:İstanbul Eku Markazi - Стамбул Эку Маркази
X-ORIGINAL-URL:https://www.istanbuleku.uz/ru
X-WR-CALDESC:Events for İstanbul Eku Markazi - Стамбул Эку Маркази
REFRESH-INTERVAL;VALUE=DURATION:PT1H
X-Robots-Tag:noindex
X-PUBLISHED-TTL:PT1H
BEGIN:VTIMEZONE
TZID:UTC
BEGIN:STANDARD
TZOFFSETFROM:+0000
TZOFFSETTO:+0000
TZNAME:UTC
DTSTART:20240101T000000
END:STANDARD
END:VTIMEZONE
BEGIN:VEVENT
DTSTART;VALUE=DATE:20240913
DTEND;VALUE=DATE:20240915
DTSTAMP:20260421T221238
CREATED:20240909T110154Z
LAST-MODIFIED:20240909T142403Z
UID:10086-1726185600-1726358399@www.istanbuleku.uz
SUMMARY:13-14 Sentabr kunlari Bepul ekspertiza va konsalting Surxondaryo viloyati Termiz shahrida
DESCRIPTION:13-14 Sentabr kunlari Turkiyalik 39 yillik tajribali akusher-ginekolog va reproduktologimiz Fethiye Ersan xonim Surxandaryo Termez shahridagi\n📍Mashhura tibbiyot markazida bepul ko’rik va konsultatsiya o’tkazadilar ✅ \n📞 55 512 22 21\n📞 99 607 22 24\nRo’yhatdan o’tish uchun bizga murojaat qiling 😊
URL:https://www.istanbuleku.uz/ru/event/13-14-sentabr-kunlari/
LOCATION:MANZIL\, MASHHURA TİBBİYOT MARKAZI\, Termiz\, Uzbekistan
CATEGORIES:Viloyatlardagi klinikalar
ATTACH;FMTTYPE=image/png:https://www.istanbuleku.uz/ru/wp-content/uploads/2024/08/FETHIYE-ERSAN-e1724766263250.png
ORGANIZER;CN="%C4%B0stanbul Eku Markazi":MAILTO:info@istanbuleku.uz
END:VEVENT
BEGIN:VEVENT
DTSTART;TZID=UTC:20240730T080000
DTEND;TZID=UTC:20240731T170000
DTSTAMP:20260421T221238
CREATED:20240827T134336Z
LAST-MODIFIED:20240827T134436Z
UID:9955-1722326400-1722445200@www.istanbuleku.uz
SUMMARY:Surxondaryo viloyati Termiz shahrida bepul ko’rik va konsultatsiya bo’lib
DESCRIPTION:30-31 iyul kunlari Turkiyalik 39 yillik tajribali akusher-ginekolog va reproduktologimiz Fethiye Ersan xonim Surxandaryo Termez shahridagi\nMashhura tibbiyot markazida bepul ko’rik va konsultatsiya o’tkazadilar ✅
URL:https://www.istanbuleku.uz/ru/event/surxondaryo-viloyati-termiz-shahrida-bepul-korik-va-konsultatsiya-bolib/
CATEGORIES:Viloyatlardagi klinikalar
ATTACH;FMTTYPE=image/png:https://www.istanbuleku.uz/ru/wp-content/uploads/2024/08/FETHIYE-ERSAN-e1724766263250.png
END:VEVENT
BEGIN:VEVENT
DTSTART;TZID=UTC:20240701T080000
DTEND;TZID=UTC:20240705T170000
DTSTAMP:20260421T221238
CREATED:20240827T135052Z
LAST-MODIFIED:20240827T135052Z
UID:9958-1719820800-1720198800@www.istanbuleku.uz
SUMMARY:Ko’p talablarga binoan Istanbul EKU Markazi Akusher-ginekologi Gulchehra Avazova ya’na ko’rik o’tkazadi
DESCRIPTION:Ko’p talablarga binoan Istanbul EKU Markazi Akusher-ginekologi Gulchehra Avazova ya’na ko’rik o’tkazadi  \nBu imkoniyatni qo’ldan boy bermang\, biz bilan bog’laning  +998 91-719-16-61 \n——— \nПо многочисленным просьбам\, Гульчехра Авазова\, акушер-гинеколог Istanbul EKU Markazi\, проведет еще осмотр  \nНе упустите такую возможность\, свяжитесь с нами  +998 91-719-16-61
URL:https://www.istanbuleku.uz/ru/event/kop-talablarga-binoan-istanbul-eku-markazi-akusher-ginekologi-gulchehra-avazova-yana-korik-otkazadi/
CATEGORIES:Viloyatlardagi klinikalar
ATTACH;FMTTYPE=image/jpeg:https://www.istanbuleku.uz/ru/wp-content/uploads/2024/08/photo_2024-06-08_15-26-27-e1724766586732.jpg
END:VEVENT
BEGIN:VEVENT
DTSTART;TZID=UTC:20240508T080000
DTEND;TZID=UTC:20240510T170000
DTSTAMP:20260421T221238
CREATED:20240827T135446Z
LAST-MODIFIED:20240827T135508Z
UID:9961-1715155200-1715360400@www.istanbuleku.uz
SUMMARY:8-9-10 may kunlari Turkiyadan kelgan 39 yillik tajribaga ega reproduktolog doktor Fethiye Ersan BEPUSHTLIK muammosi bo’lgan va EKU davosiga muhtoj bo’lgan juftliklarga bepul maslahat beradi.
DESCRIPTION:Toshkent\, Samarqand va Urganchdan keyin Istanbul EKU markazi Termizde Kani Med bilan hamkorlikda BEPUSHTLIK muammosi bo’lgan juftliklar uchun umid bo’lishda davom etmoqda. \n8-9-10 may kunlari Turkiyadan kelgan 39 yillik tajribaga ega reproduktolog doktor Fethiye Ersan BEPUSHTLIK muammosi bo’lgan va EKU davosiga muhtoj bo’lgan juftliklarga bepul maslahat beradi. \nIstanbul EKU markazi ham Termiz va uning atrofiga xizmat ko’rsatadi va chaqaloq ovozi bo’lmagan xonadon qolmasligini ta’minlaydi. \nAddress\nAlisher Navoiy Ko’chasi 26\nTermez/UZBEKISTAN
URL:https://www.istanbuleku.uz/ru/event/8-9-10-may-kunlari-turkiyadan-kelgan-39-yillik-tajribaga-ega-reproduktolog-doktor-fethiye-ersan-bepushtlik-muammosi-bolgan-va-eku-davosiga-muhtoj-bolgan-juftliklarga-bepul-maslahat-b/
CATEGORIES:Viloyatlardagi klinikalar
ATTACH;FMTTYPE=image/jpeg:https://www.istanbuleku.uz/ru/wp-content/uploads/2024/08/IMG_1850-scaled-e1724766876165.jpg
END:VEVENT
END:VCALENDAR