BEGIN:VCALENDAR
VERSION:2.0
PRODID:-//İstanbul Eku Markazi - Стамбул Эку Маркази - ECPv6.6.2//NONSGML v1.0//EN
CALSCALE:GREGORIAN
METHOD:PUBLISH
X-ORIGINAL-URL:https://www.istanbuleku.uz
X-WR-CALDESC:Events for İstanbul Eku Markazi - Стамбул Эку Маркази
REFRESH-INTERVAL;VALUE=DURATION:PT1H
X-Robots-Tag:noindex
X-PUBLISHED-TTL:PT1H
BEGIN:VTIMEZONE
TZID:UTC
BEGIN:STANDARD
TZOFFSETFROM:+0000
TZOFFSETTO:+0000
TZNAME:UTC
DTSTART:20250101T000000
END:STANDARD
END:VTIMEZONE
BEGIN:VEVENT
DTSTART;TZID=UTC:20250621T080000
DTEND;TZID=UTC:20250622T170000
DTSTAMP:20260420T121134
CREATED:20250613T134603Z
LAST-MODIFIED:20250613T134634Z
UID:10347-1750492800-1750611600@www.istanbuleku.uz
SUMMARY:Buxoro va unga yaqin hududlardagi befarzand juftliklar uchun ajoyib imkon!
DESCRIPTION:Buxoro va unga yaqin hududlardagi befarzand juftliklar uchun ajoyib imkon! \n21 iyun kuni Turkiyalik 39 yillik tajribali ginekolog-reproduktolog Fethiye Ersan BEPUL KO’RIK VA KONSULTATSİYA o’tkazadilar. \n📍Manzil: Buxoro tibbiyot instituti klinikasi bosh binosi. \n👩🏻‍⚕️Qabulga yozilish:👇🏻👇🏻👇🏻\n☎️ +998555122221
URL:https://www.istanbuleku.uz/event/buxoro-va-unga-yaqin-hududlardagi-befarzand-juftliklar-uchun-ajoyib-imkon/
CATEGORIES:Viloyatlardagi klinikalar
ATTACH;FMTTYPE=image/png:https://www.istanbuleku.uz/wp-content/uploads/2024/08/FETHIYE-ERSAN-e1724766263250.png
END:VEVENT
END:VCALENDAR